BEGIN:VCALENDAR
VERSION:2.0
PRODID:-//hacksw/handcal//NONSGML v1.0//EN
BEGIN:VEVENT
DTSTART:20230919T100000
DTEND:20230919T193000
LOCATION:L'école de design Nantes Atlantique  \n61 boulevard de la Prairie au Duc \n44200 Nantes
ORGANIZER;CN=Stéphanie MARTIN PETIT:MAILTO:s.martinpetit@lecolededesign.com
SUMMARY:Conference "Furniture: What are the key levers for eco-design?"
DESCRIPTION:While the demand for eco-designed furniture is exploding among prescribers and while the Climate and Resilience law will impose environmental labeling on professionals in the sector by 2025: How to...
URL:https://wedesign.lecolededesign.com/en/event/conference-furniture-what-are-the-key-levers-for-eco-design/2023/09/19/55
BEGIN:VALARM
TRIGGER:-P0DT1H0M0S
ACTION:DISPLAY
END:VALARM
END:VEVENT
END:VCALENDAR