BEGIN:VCALENDAR
VERSION:2.0
PRODID:-//hacksw/handcal//NONSGML v1.0//EN
BEGIN:VEVENT
DTSTART:20250514T180000
DTEND:20250514T200000
LOCATION:https://teams.microsoft.com/l/meetup-join/19:meeting_NzA1Y2M1Y2QtODcwYS00MzAyLWE1ZDktZDU5YzdkNmY4OTEz@thread.v2/0?context={"Tid":"9095bed1-9d19-4e05-be0c-391a13a5438a","Oid":"37863806-8257-42d2-80d0-81dee8313079"}
ORGANIZER;CN=Stéphanie MARTIN PETIT:MAILTO:s.martinpetit@lecolededesign.com
SUMMARY:Pourquoi adhérer au CFAI?
DESCRIPTION:
URL:https://wedesign.lecolededesign.com/fr/event/pourquoi-adherer-au-cfai/2025/05/14/254
BEGIN:VALARM
TRIGGER:-P0DT1H0M0S
ACTION:DISPLAY
END:VALARM
END:VEVENT
END:VCALENDAR