BEGIN:VCALENDAR
VERSION:2.0
PRODID:-//hacksw/handcal//NONSGML v1.0//EN
BEGIN:VEVENT
DTSTART:20230919T100000
DTEND:20230919T193000
LOCATION:L'école de design Nantes Atlantique  \n61 boulevard de la Prairie au Duc \n44200 Nantes
ORGANIZER;CN=Stéphanie MARTIN PETIT:MAILTO:s.martinpetit@lecolededesign.com
SUMMARY:Conférence "Mobilier : Quels sont les leviers clés pour éco-concevoir ?"
DESCRIPTION:Tandis que la demande de mobilier eco-conçus explose chez les prescripteurs et alors que la loi Climat et Résilience imposera l’affichage environnemental aux professionnels du secteur d’ici 2025 :...
URL:https://wedesign.lecolededesign.com/fr/event/conference-mobilier-quels-sont-les-leviers-cles-pour-eco-concevoir/2023/09/19/55
BEGIN:VALARM
TRIGGER:-P0DT1H0M0S
ACTION:DISPLAY
END:VALARM
END:VEVENT
END:VCALENDAR